BEGIN:VCALENDAR
VERSION:2.0
PRODID:-//hacksw/handcal//NONSGML v1.0//EN
CALSCALE:GREGORIAN
BEGIN:VEVENT
LOCATION:Grenoble\, Fransa
DESCRIPTION:
DTSTART:20241016T000000Z
DTEND:20241017T000000Z
SUMMARY:Forum des Métiers de Grenoble-Alpes Métropole 2024
URL;VALUE=URI:https://careers.araymond.com/tr/node/2922
DTSTAMP:20260423T181119Z
UID:69ea44a7d545d
END:VEVENT
END:VCALENDAR