BEGIN:VCALENDAR
VERSION:2.0
PRODID:-//hacksw/handcal//NONSGML v1.0//EN
CALSCALE:GREGORIAN
BEGIN:VEVENT
LOCATION:Lörrach\, Almanya
DESCRIPTION:
DTSTART:20231122T000000Z
DTEND:20231122T000000Z
SUMMARY:Besuchen Sie uns am Studieninformationstag
URL;VALUE=URI:https://careers.araymond.com/tr/node/2567
DTSTAMP:20260423T181002Z
UID:69ea445a0882b
END:VEVENT
END:VCALENDAR