BEGIN:VCALENDAR
VERSION:2.0
PRODID:-//hacksw/handcal//NONSGML v1.0//EN
CALSCALE:GREGORIAN
BEGIN:VEVENT
LOCATION:Lörrach\, Almanya
DESCRIPTION:
DTSTART:20230604T000000Z
DTEND:20231001T000000Z
SUMMARY:Sonderausstellung unter dem Titel „Was hält\, das hält“
URL;VALUE=URI:https://careers.araymond.com/tr/node/2407
DTSTAMP:20260423T181456Z
UID:69ea4580e491f
END:VEVENT
END:VCALENDAR