BEGIN:VCALENDAR
VERSION:2.0
PRODID:-//hacksw/handcal//NONSGML v1.0//EN
CALSCALE:GREGORIAN
BEGIN:VEVENT
LOCATION:Weil am Rhein\, Alemanha
DESCRIPTION:
DTSTART:20230427T000000Z
DTEND:20230427T000000Z
SUMMARY:Girls Day 2023
URL;VALUE=URI:https://careers.araymond.com/pt-br/node/2310
DTSTAMP:20260423T181929Z
UID:69ea4691065b6
END:VEVENT
END:VCALENDAR