BEGIN:VCALENDAR
VERSION:2.0
PRODID:-//hacksw/handcal//NONSGML v1.0//EN
CALSCALE:GREGORIAN
BEGIN:VEVENT
LOCATION:
DESCRIPTION:
DTSTART:20260423T000000Z
DTEND:20260423T000000Z
SUMMARY:Girls'Day 2026 - Dein Tag\, dein Weg!
URL;VALUE=URI:https://careers.araymond.com/fr/node/3387
DTSTAMP:20260424T113126Z
UID:69eb386ee90b0
END:VEVENT
END:VCALENDAR