BEGIN:VCALENDAR
VERSION:2.0
PRODID:-//hacksw/handcal//NONSGML v1.0//EN
CALSCALE:GREGORIAN
BEGIN:VEVENT
LOCATION:
DESCRIPTION:
DTSTART:20260325T000000Z
DTEND:20260325T000000Z
SUMMARY:Linkday® 2026
URL;VALUE=URI:https://careers.araymond.com/fr/events/linkdayr-2026
DTSTAMP:20260422T235727Z
UID:69e944479cd97
END:VEVENT
END:VCALENDAR