BEGIN:VCALENDAR
VERSION:2.0
PRODID:-//hacksw/handcal//NONSGML v1.0//EN
CALSCALE:GREGORIAN
BEGIN:VEVENT
LOCATION:
DESCRIPTION:
DTSTART:20250415T000000Z
DTEND:20250415T000000Z
SUMMARY:Job Dating Alternance 2025 - ARaymond France 
URL;VALUE=URI:https://careers.araymond.com/fr/events/job-dating-alternance-2025-araymond-france
DTSTAMP:20260423T165316Z
UID:69ea325c86081
END:VEVENT
END:VCALENDAR