BEGIN:VCALENDAR
VERSION:2.0
PRODID:-//hacksw/handcal//NONSGML v1.0//EN
CALSCALE:GREGORIAN
BEGIN:VEVENT
LOCATION:Lörrach\, Allemagne
DESCRIPTION:
DTSTART:20241120T000000Z
DTEND:20241120T000000Z
SUMMARY:Wir sind am Studieninfotag der DHBW dabei.
URL;VALUE=URI:https://careers.araymond.com/fr/node/2945
DTSTAMP:20260423T193556Z
UID:69ea587c444b5
END:VEVENT
END:VCALENDAR