BEGIN:VCALENDAR
VERSION:2.0
PRODID:-//hacksw/handcal//NONSGML v1.0//EN
CALSCALE:GREGORIAN
BEGIN:VEVENT
LOCATION:Weil am Rhein\, Allemagne
DESCRIPTION:
DTSTART:20240425T000000Z
DTEND:20240425T000000Z
SUMMARY:Girls Day 2024
URL;VALUE=URI:https://careers.araymond.com/fr/node/2678
DTSTAMP:20260423T193556Z
UID:69ea587c0ac7b
END:VEVENT
END:VCALENDAR