BEGIN:VCALENDAR
VERSION:2.0
PRODID:-//hacksw/handcal//NONSGML v1.0//EN
CALSCALE:GREGORIAN
BEGIN:VEVENT
LOCATION:Saint-Egrève\, Francia
DESCRIPTION:
DTSTART:20240613T000000Z
DTEND:20240613T000000Z
SUMMARY:Job dating ARaymond France
URL;VALUE=URI:https://careers.araymond.com/es/node/2797
DTSTAMP:20260424T102433Z
UID:69eb28c15b62b
END:VEVENT
END:VCALENDAR