BEGIN:VCALENDAR
VERSION:2.0
PRODID:-//hacksw/handcal//NONSGML v1.0//EN
CALSCALE:GREGORIAN
BEGIN:VEVENT
LOCATION:Grenoble\, France
DESCRIPTION:
DTSTART:20240409T000000Z
DTEND:20240409T000000Z
SUMMARY:Salon des Talents H+
URL;VALUE=URI:https://careers.araymond.com/en/events/salon-des-talents-h
DTSTAMP:20260423T181718Z
UID:69ea460eea2dd
END:VEVENT
END:VCALENDAR