BEGIN:VCALENDAR
VERSION:2.0
PRODID:-//hacksw/handcal//NONSGML v1.0//EN
CALSCALE:GREGORIAN
BEGIN:VEVENT
LOCATION:Grenoble\, France
DESCRIPTION:
DTSTART:20240316T000000Z
DTEND:20240316T000000Z
SUMMARY:Le Salon apprentissage\, alternance et métiers 2024
URL;VALUE=URI:https://careers.araymond.com/en/events/le-salon-apprentissage-alternance-et-metiers-2024
DTSTAMP:20260423T164450Z
UID:69ea3062050fb
END:VEVENT
END:VCALENDAR