BEGIN:VCALENDAR
VERSION:2.0
PRODID:-//hacksw/handcal//NONSGML v1.0//EN
CALSCALE:GREGORIAN
BEGIN:VEVENT
LOCATION:Lörrach\, Deutschland
DESCRIPTION:
DTSTART:20241120T000000Z
DTEND:20241120T000000Z
SUMMARY:Wir sind am Studieninfotag der DHBW dabei
URL;VALUE=URI:https://careers.araymond.com/de/events/wir-sind-am-studieninfotag-der-dhbw-dabei
DTSTAMP:20260423T164400Z
UID:69ea30306ba43
END:VEVENT
END:VCALENDAR