BEGIN:VCALENDAR
VERSION:2.0
PRODID:-//hacksw/handcal//NONSGML v1.0//EN
CALSCALE:GREGORIAN
BEGIN:VEVENT
LOCATION:Wolfsburg\, Německo
DESCRIPTION:
DTSTART:20221011T000000Z
DTEND:20221013T000000Z
SUMMARY:IZB 2022
URL;VALUE=URI:https://careers.araymond.com/cz/node/16
DTSTAMP:20260423T181143Z
UID:69ea44bff1826
END:VEVENT
END:VCALENDAR